BEGIN:VCALENDAR
VERSION:2.0
PRODID:-//The Hollybush - ECPv6.15.20//NONSGML v1.0//EN
CALSCALE:GREGORIAN
METHOD:PUBLISH
X-WR-CALNAME:The Hollybush
X-ORIGINAL-URL:https://thehollybush-ashbyparva.co.uk
X-WR-CALDESC:Events for The Hollybush
REFRESH-INTERVAL;VALUE=DURATION:PT1H
X-Robots-Tag:noindex
X-PUBLISHED-TTL:PT1H
BEGIN:VTIMEZONE
TZID:UTC
BEGIN:STANDARD
TZOFFSETFROM:+0000
TZOFFSETTO:+0000
TZNAME:UTC
DTSTART:20250101T000000
END:STANDARD
END:VTIMEZONE
BEGIN:VEVENT
DTSTART;TZID=UTC:20260425T120000
DTEND;TZID=UTC:20260425T140000
DTSTAMP:20260421T094553
CREATED:20260411T203700Z
LAST-MODIFIED:20260411T205442Z
UID:3721-1777118400-1777125600@thehollybush-ashbyparva.co.uk
SUMMARY:Car Meet - 25/04/26
DESCRIPTION:Join us for our Car Meet at The Hollybush\, Ashby Parva – a relaxed\, family-friendly afternoon for car lovers\, locals\, and anyone looking for something a bit different.\nFrom monster trucks to classic cars and everything in between\, there’s always a great mix on display. You’re very welcome to bring your own along\, but just as many people come down to have a wander and take it all in. \nIt’s a great one for families too\, so feel free to bring the kids along to see the cars up close – there’s plenty to keep them entertained. \nWe’ll also have the BBQ on\, so you can grab some food and make an afternoon of it\, alongside our usual drinks and garden space. \nWeather can play a part\, but we still go ahead where we can – and there’s always a good turnout regardless. \nNo booking needed – just turn up and enjoy.
URL:https://thehollybush-ashbyparva.co.uk/event/car-meet-25-04-26/
LOCATION:Pub\, The HollyBush\, Ashby Parva\,\, Leicestershire\, LE17 5HS\, United Kingdom
CATEGORIES:Motor Meets
ATTACH;FMTTYPE=image/png:https://thehollybush-ashbyparva.co.uk/wp-content/uploads/2026/04/car-meet-banner.png
END:VEVENT
BEGIN:VEVENT
DTSTART;TZID=UTC:20260502T140000
DTEND;TZID=UTC:20260502T170000
DTSTAMP:20260421T094553
CREATED:20260411T202421Z
LAST-MODIFIED:20260411T205525Z
UID:3714-1777730400-1777741200@thehollybush-ashbyparva.co.uk
SUMMARY:Bike Meet - 02/05/26
DESCRIPTION:Join us for our regular Bike Meet at The Hollybush\, Ashby Parva\, held on the first Saturday of every month. \nRunning from 2pm to 5pm\, it’s a relaxed afternoon for riders\, locals and anyone who enjoys a great pub atmosphere. Bring your bike down\, catch up with others\, and enjoy a laid-back few hours in the garden. \nWe’ll have the BBQ on in the garden (weather permitting)\, serving up simple\, good food alongside our usual drinks. \nWhether you’re arriving on two wheels or just popping down to soak up the atmosphere\, everyone’s welcome. \nNo booking needed – just turn up and enjoy.
URL:https://thehollybush-ashbyparva.co.uk/event/bike-meet-02-05-26/
LOCATION:Pub\, The HollyBush\, Ashby Parva\,\, Leicestershire\, LE17 5HS\, United Kingdom
CATEGORIES:Motor Meets
ATTACH;FMTTYPE=image/png:https://thehollybush-ashbyparva.co.uk/wp-content/uploads/2026/04/bike-meet-banner.png
END:VEVENT
BEGIN:VEVENT
DTSTART;TZID=UTC:20260530T120000
DTEND;TZID=UTC:20260530T140000
DTSTAMP:20260421T094553
CREATED:20260411T203948Z
LAST-MODIFIED:20260411T205328Z
UID:3728-1780142400-1780149600@thehollybush-ashbyparva.co.uk
SUMMARY:car meet - 30/05/26
DESCRIPTION:Join us for our Car Meet at The Hollybush\, Ashby Parva – a relaxed\, family-friendly afternoon for car lovers\, locals\, and anyone looking for something a bit different.\nFrom monster trucks to classic cars and everything in between\, there’s always a great mix on display. You’re very welcome to bring your own along\, but just as many people come down to have a wander and take it all in. \nIt’s a great one for families too\, so feel free to bring the kids along to see the cars up close – there’s plenty to keep them entertained. \nWe’ll also have the BBQ on\, so you can grab some food and make an afternoon of it\, alongside our usual drinks and garden space. \nWeather can play a part\, but we still go ahead where we can – and there’s always a good turnout regardless. \nNo booking needed – just turn up and enjoy.
URL:https://thehollybush-ashbyparva.co.uk/event/car-meet-30-05-26/
LOCATION:Pub\, The HollyBush\, Ashby Parva\,\, Leicestershire\, LE17 5HS\, United Kingdom
CATEGORIES:Motor Meets
ATTACH;FMTTYPE=image/png:https://thehollybush-ashbyparva.co.uk/wp-content/uploads/2026/04/car-meet-banner.png
END:VEVENT
BEGIN:VEVENT
DTSTART;TZID=UTC:20260606T140000
DTEND;TZID=UTC:20260606T170000
DTSTAMP:20260421T094553
CREATED:20260411T202604Z
LAST-MODIFIED:20260411T205435Z
UID:3719-1780754400-1780765200@thehollybush-ashbyparva.co.uk
SUMMARY:Bike Meet - 06/06/26
DESCRIPTION:Join us for our regular Bike Meet at The Hollybush\, Ashby Parva\, held on the first Saturday of every month. \nRunning from 2pm to 5pm\, it’s a relaxed afternoon for riders\, locals and anyone who enjoys a great pub atmosphere. Bring your bike down\, catch up with others\, and enjoy a laid-back few hours in the garden. \nWe’ll have the BBQ on in the garden (weather permitting)\, serving up simple\, good food alongside our usual drinks. \nWhether you’re arriving on two wheels or just popping down to soak up the atmosphere\, everyone’s welcome. \nNo booking needed – just turn up and enjoy.
URL:https://thehollybush-ashbyparva.co.uk/event/bike-meet-06-06-26/
LOCATION:Pub\, The HollyBush\, Ashby Parva\,\, Leicestershire\, LE17 5HS\, United Kingdom
CATEGORIES:Motor Meets
ATTACH;FMTTYPE=image/png:https://thehollybush-ashbyparva.co.uk/wp-content/uploads/2026/04/bike-meet-banner.png
END:VEVENT
BEGIN:VEVENT
DTSTART;TZID=UTC:20260627T120000
DTEND;TZID=UTC:20260627T140000
DTSTAMP:20260421T094553
CREATED:20260411T204129Z
LAST-MODIFIED:20260411T205306Z
UID:3730-1782561600-1782568800@thehollybush-ashbyparva.co.uk
SUMMARY:Car Meet - 27/06/26
DESCRIPTION:Join us for our Car Meet at The Hollybush\, Ashby Parva – a relaxed\, family-friendly afternoon for car lovers\, locals\, and anyone looking for something a bit different.\nFrom monster trucks to classic cars and everything in between\, there’s always a great mix on display. You’re very welcome to bring your own along\, but just as many people come down to have a wander and take it all in. \nIt’s a great one for families too\, so feel free to bring the kids along to see the cars up close – there’s plenty to keep them entertained. \nWe’ll also have the BBQ on\, so you can grab some food and make an afternoon of it\, alongside our usual drinks and garden space. \nWeather can play a part\, but we still go ahead where we can – and there’s always a good turnout regardless. \nNo booking needed – just turn up and enjoy.
URL:https://thehollybush-ashbyparva.co.uk/event/car-meet-27-06-26/
LOCATION:Pub\, The HollyBush\, Ashby Parva\,\, Leicestershire\, LE17 5HS\, United Kingdom
CATEGORIES:Motor Meets
ATTACH;FMTTYPE=image/png:https://thehollybush-ashbyparva.co.uk/wp-content/uploads/2026/04/car-meet-banner.png
END:VEVENT
BEGIN:VEVENT
DTSTART;TZID=UTC:20260704T140000
DTEND;TZID=UTC:20260704T170000
DTSTAMP:20260421T094553
CREATED:20260411T202733Z
LAST-MODIFIED:20260411T205348Z
UID:3722-1783173600-1783184400@thehollybush-ashbyparva.co.uk
SUMMARY:Bike Meet - 04/07/26
DESCRIPTION:Join us for our regular Bike Meet at The Hollybush\, Ashby Parva\, held on the first Saturday of every month. \nRunning from 2pm to 5pm\, it’s a relaxed afternoon for riders\, locals and anyone who enjoys a great pub atmosphere. Bring your bike down\, catch up with others\, and enjoy a laid-back few hours in the garden. \nWe’ll have the BBQ on in the garden (weather permitting)\, serving up simple\, good food alongside our usual drinks. \nWhether you’re arriving on two wheels or just popping down to soak up the atmosphere\, everyone’s welcome. \nNo booking needed – just turn up and enjoy.
URL:https://thehollybush-ashbyparva.co.uk/event/bike-meet-04-07-26/
LOCATION:Pub\, The HollyBush\, Ashby Parva\,\, Leicestershire\, LE17 5HS\, United Kingdom
CATEGORIES:Motor Meets
ATTACH;FMTTYPE=image/png:https://thehollybush-ashbyparva.co.uk/wp-content/uploads/2026/04/bike-meet-banner.png
END:VEVENT
BEGIN:VEVENT
DTSTART;TZID=UTC:20260725T120000
DTEND;TZID=UTC:20260725T140000
DTSTAMP:20260421T094553
CREATED:20260411T204254Z
LAST-MODIFIED:20260411T205246Z
UID:3733-1784980800-1784988000@thehollybush-ashbyparva.co.uk
SUMMARY:Car Meet - 25/07/26
DESCRIPTION:Join us for our Car Meet at The Hollybush\, Ashby Parva – a relaxed\, family-friendly afternoon for car lovers\, locals\, and anyone looking for something a bit different.\nFrom monster trucks to classic cars and everything in between\, there’s always a great mix on display. You’re very welcome to bring your own along\, but just as many people come down to have a wander and take it all in. \nIt’s a great one for families too\, so feel free to bring the kids along to see the cars up close – there’s plenty to keep them entertained. \nWe’ll also have the BBQ on\, so you can grab some food and make an afternoon of it\, alongside our usual drinks and garden space. \nWeather can play a part\, but we still go ahead where we can – and there’s always a good turnout regardless. \nNo booking needed – just turn up and enjoy.
URL:https://thehollybush-ashbyparva.co.uk/event/car-meet-25-07-26/
LOCATION:Pub\, The HollyBush\, Ashby Parva\,\, Leicestershire\, LE17 5HS\, United Kingdom
CATEGORIES:Motor Meets
ATTACH;FMTTYPE=image/png:https://thehollybush-ashbyparva.co.uk/wp-content/uploads/2026/04/car-meet-banner.png
END:VEVENT
BEGIN:VEVENT
DTSTART;TZID=UTC:20260829T120000
DTEND;TZID=UTC:20260829T140000
DTSTAMP:20260421T094553
CREATED:20260411T204356Z
LAST-MODIFIED:20260411T205215Z
UID:3737-1788004800-1788012000@thehollybush-ashbyparva.co.uk
SUMMARY:Car Meet - 29/08/26
DESCRIPTION:Join us for our Car Meet at The Hollybush\, Ashby Parva – a relaxed\, family-friendly afternoon for car lovers\, locals\, and anyone looking for something a bit different.\nFrom monster trucks to classic cars and everything in between\, there’s always a great mix on display. You’re very welcome to bring your own along\, but just as many people come down to have a wander and take it all in. \nIt’s a great one for families too\, so feel free to bring the kids along to see the cars up close – there’s plenty to keep them entertained. \nWe’ll also have the BBQ on\, so you can grab some food and make an afternoon of it\, alongside our usual drinks and garden space. \nWeather can play a part\, but we still go ahead where we can – and there’s always a good turnout regardless. \nNo booking needed – just turn up and enjoy.
URL:https://thehollybush-ashbyparva.co.uk/event/car-meet-29-08-26-copy/
LOCATION:Pub\, The HollyBush\, Ashby Parva\,\, Leicestershire\, LE17 5HS\, United Kingdom
CATEGORIES:Motor Meets
ATTACH;FMTTYPE=image/png:https://thehollybush-ashbyparva.co.uk/wp-content/uploads/2026/04/car-meet-banner.png
END:VEVENT
END:VCALENDAR