BEGIN:VCALENDAR
VERSION:2.0
PRODID:-//The Hollybush - ECPv6.15.20//NONSGML v1.0//EN
CALSCALE:GREGORIAN
METHOD:PUBLISH
X-ORIGINAL-URL:https://thehollybush-ashbyparva.co.uk
X-WR-CALDESC:Events for The Hollybush
REFRESH-INTERVAL;VALUE=DURATION:PT1H
X-Robots-Tag:noindex
X-PUBLISHED-TTL:PT1H
BEGIN:VTIMEZONE
TZID:UTC
BEGIN:STANDARD
TZOFFSETFROM:+0000
TZOFFSETTO:+0000
TZNAME:UTC
DTSTART:20250101T000000
END:STANDARD
END:VTIMEZONE
BEGIN:VEVENT
DTSTART;TZID=UTC:20260503T193000
DTEND;TZID=UTC:20260503T210000
DTSTAMP:20260423T105547
CREATED:20190729T104422Z
LAST-MODIFIED:20260411T202215Z
UID:421-1777836600-1777842000@thehollybush-ashbyparva.co.uk
SUMMARY:Bingo - 03/05/26
DESCRIPTION:Looking for a fun Bingo night in Ashby Parva or near Lutterworth? Join us at The Hollybush for a relaxed evening of bingo\, great prizes and a welcoming village pub atmosphere. Perfect for groups\, locals\, and anyone looking for a midweek night out in Leicestershire.\nEyes down… it’s that time again 👀 \nJoin us for our upcoming Bingo Night – a relaxed\, sociable evening with a bit of friendly competition thrown in. \nThe night includes 5 games\, with a growing prize pot depending on how many people take part – so the more the merrier. \nTickets are £10 per person\, with eyes down at 7:30pm. \nWhether you’re coming to win or just for a good evening at the pub\, it’s always a fun night and a great excuse to get a group together. \nSpaces can fill up quickly\, so we recommend booking in advance to secure your table. \n👉 Book your place here.
URL:https://thehollybush-ashbyparva.co.uk/event/bingo/
LOCATION:Pub\, The HollyBush\, Ashby Parva\,\, Leicestershire\, LE17 5HS\, United Kingdom
CATEGORIES:Bingo
ATTACH;FMTTYPE=image/png:https://thehollybush-ashbyparva.co.uk/wp-content/uploads/2019/07/Untitled-2.png
END:VEVENT
BEGIN:VEVENT
DTSTART;TZID=UTC:20260607T193000
DTEND;TZID=UTC:20260607T210000
DTSTAMP:20260423T105547
CREATED:20260411T195337Z
LAST-MODIFIED:20260411T195357Z
UID:3686-1780860600-1780866000@thehollybush-ashbyparva.co.uk
SUMMARY:Bingo - 07/06/26
DESCRIPTION:Looking for a fun Bingo night in Ashby Parva or near Lutterworth? Join us at The Hollybush for a relaxed evening of bingo\, great prizes and a welcoming village pub atmosphere. Perfect for groups\, locals\, and anyone looking for a midweek night out in Leicestershire.\nEyes down… it’s that time again 👀 \nJoin us for our upcoming Bingo Night – a relaxed\, sociable evening with a bit of friendly competition thrown in. \nThe night includes 5 games\, with a growing prize pot depending on how many people take part – so the more the merrier. \nTickets are £10 per person\, with eyes down at 7:30pm. \nWhether you’re coming to win or just for a good evening at the pub\, it’s always a fun night and a great excuse to get a group together. \nSpaces can fill up quickly\, so we recommend booking in advance to secure your table. \n👉 Book your place here.
URL:https://thehollybush-ashbyparva.co.uk/event/bingo-07-06-26/
LOCATION:Pub\, The HollyBush\, Ashby Parva\,\, Leicestershire\, LE17 5HS\, United Kingdom
CATEGORIES:Bingo
ATTACH;FMTTYPE=image/png:https://thehollybush-ashbyparva.co.uk/wp-content/uploads/2019/07/Untitled-2.png
END:VEVENT
BEGIN:VEVENT
DTSTART;TZID=UTC:20260705T193000
DTEND;TZID=UTC:20260705T210000
DTSTAMP:20260423T105547
CREATED:20260411T195527Z
LAST-MODIFIED:20260411T195542Z
UID:3688-1783279800-1783285200@thehollybush-ashbyparva.co.uk
SUMMARY:Bingo - 05/07/26
DESCRIPTION:Looking for a fun Bingo night in Ashby Parva or near Lutterworth? Join us at The Hollybush for a relaxed evening of bingo\, great prizes and a welcoming village pub atmosphere. Perfect for groups\, locals\, and anyone looking for a midweek night out in Leicestershire.\nEyes down… it’s that time again 👀 \nJoin us for our upcoming Bingo Night – a relaxed\, sociable evening with a bit of friendly competition thrown in. \nThe night includes 5 games\, with a growing prize pot depending on how many people take part – so the more the merrier. \nTickets are £10 per person\, with eyes down at 7:30pm. \nWhether you’re coming to win or just for a good evening at the pub\, it’s always a fun night and a great excuse to get a group together. \nSpaces can fill up quickly\, so we recommend booking in advance to secure your table. \n👉 Book your place here.
URL:https://thehollybush-ashbyparva.co.uk/event/bingo-05-07-26/
LOCATION:Pub\, The HollyBush\, Ashby Parva\,\, Leicestershire\, LE17 5HS\, United Kingdom
CATEGORIES:Bingo
ATTACH;FMTTYPE=image/png:https://thehollybush-ashbyparva.co.uk/wp-content/uploads/2019/07/Untitled-2.png
END:VEVENT
BEGIN:VEVENT
DTSTART;TZID=UTC:20260801T140000
DTEND;TZID=UTC:20260801T170000
DTSTAMP:20260423T105547
CREATED:20260411T202838Z
LAST-MODIFIED:20260411T205246Z
UID:3724-1785592800-1785603600@thehollybush-ashbyparva.co.uk
SUMMARY:Bike Meet - 01/08/26
DESCRIPTION:Join us for our regular Bike Meet at The Hollybush\, Ashby Parva\, held on the first Saturday of every month. \nRunning from 2pm to 5pm\, it’s a relaxed afternoon for riders\, locals and anyone who enjoys a great pub atmosphere. Bring your bike down\, catch up with others\, and enjoy a laid-back few hours in the garden. \nWe’ll have the BBQ on in the garden (weather permitting)\, serving up simple\, good food alongside our usual drinks. \nWhether you’re arriving on two wheels or just popping down to soak up the atmosphere\, everyone’s welcome. \nNo booking needed – just turn up and enjoy.
URL:https://thehollybush-ashbyparva.co.uk/event/bike-meet-01-08-26/
LOCATION:Pub\, The HollyBush\, Ashby Parva\,\, Leicestershire\, LE17 5HS\, United Kingdom
CATEGORIES:Bingo
ATTACH;FMTTYPE=image/png:https://thehollybush-ashbyparva.co.uk/wp-content/uploads/2026/04/bike-meet-banner.png
END:VEVENT
BEGIN:VEVENT
DTSTART;TZID=UTC:20260802T193000
DTEND;TZID=UTC:20260802T210000
DTSTAMP:20260423T105547
CREATED:20260411T195639Z
LAST-MODIFIED:20260411T195652Z
UID:3692-1785699000-1785704400@thehollybush-ashbyparva.co.uk
SUMMARY:Bingo - 02/08/26
DESCRIPTION:Looking for a fun Bingo night in Ashby Parva or near Lutterworth? Join us at The Hollybush for a relaxed evening of bingo\, great prizes and a welcoming village pub atmosphere. Perfect for groups\, locals\, and anyone looking for a midweek night out in Leicestershire.\nEyes down… it’s that time again 👀 \nJoin us for our upcoming Bingo Night – a relaxed\, sociable evening with a bit of friendly competition thrown in. \nThe night includes 5 games\, with a growing prize pot depending on how many people take part – so the more the merrier. \nTickets are £10 per person\, with eyes down at 7:30pm. \nWhether you’re coming to win or just for a good evening at the pub\, it’s always a fun night and a great excuse to get a group together. \nSpaces can fill up quickly\, so we recommend booking in advance to secure your table. \n👉 Book your place here.
URL:https://thehollybush-ashbyparva.co.uk/event/bingo-02-08-26/
LOCATION:Pub\, The HollyBush\, Ashby Parva\,\, Leicestershire\, LE17 5HS\, United Kingdom
CATEGORIES:Bingo
ATTACH;FMTTYPE=image/png:https://thehollybush-ashbyparva.co.uk/wp-content/uploads/2019/07/Untitled-2.png
END:VEVENT
BEGIN:VEVENT
DTSTART;TZID=UTC:20260906T193000
DTEND;TZID=UTC:20260906T210000
DTSTAMP:20260423T105547
CREATED:20260411T195853Z
LAST-MODIFIED:20260411T195853Z
UID:3697-1788723000-1788728400@thehollybush-ashbyparva.co.uk
SUMMARY:Bingo - 06/09/26
DESCRIPTION:Looking for a fun Bingo night in Ashby Parva or near Lutterworth? Join us at The Hollybush for a relaxed evening of bingo\, great prizes and a welcoming village pub atmosphere. Perfect for groups\, locals\, and anyone looking for a midweek night out in Leicestershire.\nEyes down… it’s that time again 👀 \nJoin us for our upcoming Bingo Night – a relaxed\, sociable evening with a bit of friendly competition thrown in. \nThe night includes 5 games\, with a growing prize pot depending on how many people take part – so the more the merrier. \nTickets are £10 per person\, with eyes down at 7:30pm. \nWhether you’re coming to win or just for a good evening at the pub\, it’s always a fun night and a great excuse to get a group together. \nSpaces can fill up quickly\, so we recommend booking in advance to secure your table. \n👉 Book your place here.
URL:https://thehollybush-ashbyparva.co.uk/event/bingo-06-09-26/
LOCATION:Pub\, The HollyBush\, Ashby Parva\,\, Leicestershire\, LE17 5HS\, United Kingdom
CATEGORIES:Bingo
ATTACH;FMTTYPE=image/png:https://thehollybush-ashbyparva.co.uk/wp-content/uploads/2019/07/Untitled-2.png
END:VEVENT
BEGIN:VEVENT
DTSTART;TZID=UTC:20261004T193000
DTEND;TZID=UTC:20261004T210000
DTSTAMP:20260423T105547
CREATED:20260411T200059Z
LAST-MODIFIED:20260411T200059Z
UID:3698-1791142200-1791147600@thehollybush-ashbyparva.co.uk
SUMMARY:Bingo - 04/10/26
DESCRIPTION:Looking for a fun Bingo night in Ashby Parva or near Lutterworth? Join us at The Hollybush for a relaxed evening of bingo\, great prizes and a welcoming village pub atmosphere. Perfect for groups\, locals\, and anyone looking for a midweek night out in Leicestershire.\nEyes down… it’s that time again 👀 \nJoin us for our upcoming Bingo Night – a relaxed\, sociable evening with a bit of friendly competition thrown in. \nThe night includes 5 games\, with a growing prize pot depending on how many people take part – so the more the merrier. \nTickets are £10 per person\, with eyes down at 7:30pm. \nWhether you’re coming to win or just for a good evening at the pub\, it’s always a fun night and a great excuse to get a group together. \nSpaces can fill up quickly\, so we recommend booking in advance to secure your table. \n👉 Book your place here.
URL:https://thehollybush-ashbyparva.co.uk/event/bingo-04-10-26/
LOCATION:Pub\, The HollyBush\, Ashby Parva\,\, Leicestershire\, LE17 5HS\, United Kingdom
CATEGORIES:Bingo
ATTACH;FMTTYPE=image/png:https://thehollybush-ashbyparva.co.uk/wp-content/uploads/2019/07/Untitled-2.png
END:VEVENT
BEGIN:VEVENT
DTSTART;TZID=UTC:20261101T193000
DTEND;TZID=UTC:20261101T210000
DTSTAMP:20260423T105547
CREATED:20260411T200206Z
LAST-MODIFIED:20260411T200206Z
UID:3699-1793561400-1793566800@thehollybush-ashbyparva.co.uk
SUMMARY:Bingo - 01/11/26
DESCRIPTION:Looking for a fun Bingo night in Ashby Parva or near Lutterworth? Join us at The Hollybush for a relaxed evening of bingo\, great prizes and a welcoming village pub atmosphere. Perfect for groups\, locals\, and anyone looking for a midweek night out in Leicestershire.\nEyes down… it’s that time again 👀 \nJoin us for our upcoming Bingo Night – a relaxed\, sociable evening with a bit of friendly competition thrown in. \nThe night includes 5 games\, with a growing prize pot depending on how many people take part – so the more the merrier. \nTickets are £10 per person\, with eyes down at 7:30pm. \nWhether you’re coming to win or just for a good evening at the pub\, it’s always a fun night and a great excuse to get a group together. \nSpaces can fill up quickly\, so we recommend booking in advance to secure your table. \n👉 Book your place here.
URL:https://thehollybush-ashbyparva.co.uk/event/bingo-01-11-26/
LOCATION:Pub\, The HollyBush\, Ashby Parva\,\, Leicestershire\, LE17 5HS\, United Kingdom
CATEGORIES:Bingo
ATTACH;FMTTYPE=image/png:https://thehollybush-ashbyparva.co.uk/wp-content/uploads/2019/07/Untitled-2.png
END:VEVENT
BEGIN:VEVENT
DTSTART;TZID=UTC:20261206T193000
DTEND;TZID=UTC:20261206T210000
DTSTAMP:20260423T105547
CREATED:20260411T200407Z
LAST-MODIFIED:20260411T205106Z
UID:3703-1796585400-1796590800@thehollybush-ashbyparva.co.uk
SUMMARY:Bingo - 06/12/26
DESCRIPTION:Looking for a fun Bingo night in Ashby Parva or near Lutterworth? Join us at The Hollybush for a relaxed evening of bingo\, great prizes and a welcoming village pub atmosphere. Perfect for groups\, locals\, and anyone looking for a midweek night out in Leicestershire.\nEyes down… it’s that time again 👀 \nJoin us for our upcoming Bingo Night – a relaxed\, sociable evening with a bit of friendly competition thrown in. \nThe night includes 5 games\, with a growing prize pot depending on how many people take part – so the more the merrier. \nTickets are £10 per person\, with eyes down at 7:30pm. \nWhether you’re coming to win or just for a good evening at the pub\, it’s always a fun night and a great excuse to get a group together. \nSpaces can fill up quickly\, so we recommend booking in advance to secure your table. \n👉 Book your place here.
URL:https://thehollybush-ashbyparva.co.uk/event/bingo-06-12-26/
LOCATION:Pub\, The HollyBush\, Ashby Parva\,\, Leicestershire\, LE17 5HS\, United Kingdom
CATEGORIES:Bingo
ATTACH;FMTTYPE=image/png:https://thehollybush-ashbyparva.co.uk/wp-content/uploads/2019/07/Untitled-2.png
END:VEVENT
END:VCALENDAR